BEGIN:VCALENDAR
VERSION:2.0
PRODID:-//Brent International School Manila - ECPv6.15.20//NONSGML v1.0//EN
CALSCALE:GREGORIAN
METHOD:PUBLISH
X-WR-CALNAME:Brent International School Manila
X-ORIGINAL-URL:https://brent.edu.ph
X-WR-CALDESC:Events for Brent International School Manila
REFRESH-INTERVAL;VALUE=DURATION:PT1H
X-Robots-Tag:noindex
X-PUBLISHED-TTL:PT1H
BEGIN:VTIMEZONE
TZID:Asia/Manila
BEGIN:STANDARD
TZOFFSETFROM:+0800
TZOFFSETTO:+0800
TZNAME:PST
DTSTART:20250101T000000
END:STANDARD
END:VTIMEZONE
BEGIN:VEVENT
DTSTART;VALUE=DATE:20260526
DTEND;VALUE=DATE:20260527
DTSTAMP:20260423T064121
CREATED:20260420T064453Z
LAST-MODIFIED:20260420T064453Z
UID:44399-1779753600-1779839999@brent.edu.ph
SUMMARY:Faculty in service
DESCRIPTION:
URL:https://brent.edu.ph/event/faculty-in-service/
CATEGORIES:School Wide
END:VEVENT
BEGIN:VEVENT
DTSTART;VALUE=DATE:20260527
DTEND;VALUE=DATE:20260528
DTSTAMP:20260423T064121
CREATED:20260420T064534Z
LAST-MODIFIED:20260420T064534Z
UID:44401-1779840000-1779926399@brent.edu.ph
SUMMARY:Activities Awards
DESCRIPTION:
URL:https://brent.edu.ph/event/activities-awards/
CATEGORIES:School Wide
END:VEVENT
END:VCALENDAR