BEGIN:VCALENDAR
VERSION:2.0
PRODID:-//Brent International School Manila - ECPv6.15.20//NONSGML v1.0//EN
CALSCALE:GREGORIAN
METHOD:PUBLISH
X-WR-CALNAME:Brent International School Manila
X-ORIGINAL-URL:https://brent.edu.ph
X-WR-CALDESC:Events for Brent International School Manila
REFRESH-INTERVAL;VALUE=DURATION:PT1H
X-Robots-Tag:noindex
X-PUBLISHED-TTL:PT1H
BEGIN:VTIMEZONE
TZID:Asia/Manila
BEGIN:STANDARD
TZOFFSETFROM:+0800
TZOFFSETTO:+0800
TZNAME:PST
DTSTART:20250101T000000
END:STANDARD
END:VTIMEZONE
BEGIN:VEVENT
DTSTART;VALUE=DATE:20260501
DTEND;VALUE=DATE:20260502
DTSTAMP:20260423T014847
CREATED:20260409T235920Z
LAST-MODIFIED:20260409T235920Z
UID:44042-1777593600-1777679999@brent.edu.ph
SUMMARY:No School - Labor Day
DESCRIPTION:
URL:https://brent.edu.ph/event/labor-day/
CATEGORIES:School Wide
END:VEVENT
END:VCALENDAR